BEGIN:VCALENDAR
VERSION:2.0
PRODID:-//The Arnewood School - ECPv6.15.20//NONSGML v1.0//EN
CALSCALE:GREGORIAN
METHOD:PUBLISH
X-ORIGINAL-URL:https://arnewood.hants.sch.uk
X-WR-CALDESC:Events for The Arnewood School
REFRESH-INTERVAL;VALUE=DURATION:PT1H
X-Robots-Tag:noindex
X-PUBLISHED-TTL:PT1H
BEGIN:VTIMEZONE
TZID:Europe/London
BEGIN:DAYLIGHT
TZOFFSETFROM:+0000
TZOFFSETTO:+0100
TZNAME:BST
DTSTART:20240331T010000
END:DAYLIGHT
BEGIN:STANDARD
TZOFFSETFROM:+0100
TZOFFSETTO:+0000
TZNAME:GMT
DTSTART:20241027T010000
END:STANDARD
BEGIN:DAYLIGHT
TZOFFSETFROM:+0000
TZOFFSETTO:+0100
TZNAME:BST
DTSTART:20250330T010000
END:DAYLIGHT
BEGIN:STANDARD
TZOFFSETFROM:+0100
TZOFFSETTO:+0000
TZNAME:GMT
DTSTART:20251026T010000
END:STANDARD
BEGIN:DAYLIGHT
TZOFFSETFROM:+0000
TZOFFSETTO:+0100
TZNAME:BST
DTSTART:20260329T010000
END:DAYLIGHT
BEGIN:STANDARD
TZOFFSETFROM:+0100
TZOFFSETTO:+0000
TZNAME:GMT
DTSTART:20261025T010000
END:STANDARD
BEGIN:DAYLIGHT
TZOFFSETFROM:+0000
TZOFFSETTO:+0100
TZNAME:BST
DTSTART:20270328T010000
END:DAYLIGHT
BEGIN:STANDARD
TZOFFSETFROM:+0100
TZOFFSETTO:+0000
TZNAME:GMT
DTSTART:20271031T010000
END:STANDARD
END:VTIMEZONE
BEGIN:VEVENT
DTSTART;VALUE=DATE:20251222
DTEND;VALUE=DATE:20260103
DTSTAMP:20260420T031252
CREATED:20250915T125052Z
LAST-MODIFIED:20251001T132449Z
UID:26527-1766361600-1767398399@arnewood.hants.sch.uk
SUMMARY:CHRISTMAS HOLIDAYS
DESCRIPTION:
URL:https://arnewood.hants.sch.uk/event/half-term-5/
CATEGORIES:Term Dates
END:VEVENT
BEGIN:VEVENT
DTSTART;VALUE=DATE:20260105
DTEND;VALUE=DATE:20260107
DTSTAMP:20260420T031252
CREATED:20250915T125344Z
LAST-MODIFIED:20250915T125344Z
UID:26529-1767571200-1767743999@arnewood.hants.sch.uk
SUMMARY:INSET
DESCRIPTION:
URL:https://arnewood.hants.sch.uk/event/inset-2/
CATEGORIES:Term Dates
END:VEVENT
BEGIN:VEVENT
DTSTART;VALUE=DATE:20260114
DTEND;VALUE=DATE:20260115
DTSTAMP:20260420T031252
CREATED:20250915T125451Z
LAST-MODIFIED:20250915T125451Z
UID:26531-1768348800-1768435199@arnewood.hants.sch.uk
SUMMARY:Dear England - Mayflower Trip
DESCRIPTION:
URL:https://arnewood.hants.sch.uk/event/dear-england-mayflower-trip/
CATEGORIES:Trips & Visits
END:VEVENT
BEGIN:VEVENT
DTSTART;TZID=Europe/London:20260114T080000
DTEND;TZID=Europe/London:20260114T170000
DTSTAMP:20260420T031252
CREATED:20250915T125523Z
LAST-MODIFIED:20250915T125523Z
UID:26533-1768377600-1768410000@arnewood.hants.sch.uk
SUMMARY:School Council
DESCRIPTION:
URL:https://arnewood.hants.sch.uk/event/school-council-5/
CATEGORIES:Main School
END:VEVENT
BEGIN:VEVENT
DTSTART;TZID=Europe/London:20260115T153000
DTEND;TZID=Europe/London:20260115T183000
DTSTAMP:20260420T031252
CREATED:20250915T125552Z
LAST-MODIFIED:20250915T152615Z
UID:26535-1768491000-1768501800@arnewood.hants.sch.uk
SUMMARY:Yr 9 Progress Evening
DESCRIPTION:
URL:https://arnewood.hants.sch.uk/event/yr-9-progress-evening/
CATEGORIES:Events,Main School
END:VEVENT
BEGIN:VEVENT
DTSTART;TZID=Europe/London:20260121T153000
DTEND;TZID=Europe/London:20260121T183000
DTSTAMP:20260420T031252
CREATED:20250915T125645Z
LAST-MODIFIED:20250915T125645Z
UID:26537-1769009400-1769020200@arnewood.hants.sch.uk
SUMMARY:Yr 13 Progress Evening
DESCRIPTION:
URL:https://arnewood.hants.sch.uk/event/yr-13-progress-evening/
CATEGORIES:Sixth Form
END:VEVENT
END:VCALENDAR